BEGIN:VCALENDAR
VERSION:2.0
PRODID:-//Lift For Life Gym - ECPv6.6.4.2//NONSGML v1.0//EN
CALSCALE:GREGORIAN
METHOD:PUBLISH
X-ORIGINAL-URL:https://liftforlifegym.org
X-WR-CALDESC:Events for Lift For Life Gym
REFRESH-INTERVAL;VALUE=DURATION:PT1H
X-Robots-Tag:noindex
X-PUBLISHED-TTL:PT1H
BEGIN:VTIMEZONE
TZID:UTC
BEGIN:STANDARD
TZOFFSETFROM:+0000
TZOFFSETTO:+0000
TZNAME:UTC
DTSTART:20260101T000000
END:STANDARD
END:VTIMEZONE
BEGIN:VEVENT
DTSTART;TZID=UTC:20260331T150000
DTEND;TZID=UTC:20260331T163000
DTSTAMP:20260422T090827
CREATED:20260313T154434Z
LAST-MODIFIED:20260313T154435Z
UID:2415-1774969200-1774974600@liftforlifegym.org
SUMMARY:Crafty Creatives
DESCRIPTION:This program allows Youth to explore their feelings through different creative art therapy activities.
URL:https://liftforlifegym.org/event/crafty-creatives-2/
END:VEVENT
BEGIN:VEVENT
DTSTART;TZID=UTC:20260331T153000
DTEND;TZID=UTC:20260331T163000
DTSTAMP:20260422T090827
CREATED:20260305T170440Z
LAST-MODIFIED:20260305T170441Z
UID:2407-1774971000-1774974600@liftforlifegym.org
SUMMARY:Ball for Life
DESCRIPTION:Youth males gain pointers on handling a basketball as well as the pressures of life through a unique mentoring approach with Rashad Qaasim.
URL:https://liftforlifegym.org/event/ball-for-life-4/
END:VEVENT
END:VCALENDAR