BEGIN:VCALENDAR
VERSION:2.0
PRODID:-//Lift For Life Gym - ECPv6.6.4.2//NONSGML v1.0//EN
CALSCALE:GREGORIAN
METHOD:PUBLISH
X-ORIGINAL-URL:https://liftforlifegym.org
X-WR-CALDESC:Events for Lift For Life Gym
REFRESH-INTERVAL;VALUE=DURATION:PT1H
X-Robots-Tag:noindex
X-PUBLISHED-TTL:PT1H
BEGIN:VTIMEZONE
TZID:UTC
BEGIN:STANDARD
TZOFFSETFROM:+0000
TZOFFSETTO:+0000
TZNAME:UTC
DTSTART:20260101T000000
END:STANDARD
END:VTIMEZONE
BEGIN:VEVENT
DTSTART;TZID=UTC:20260401T154500
DTEND;TZID=UTC:20260401T163000
DTSTAMP:20260422T145038
CREATED:20260326T165202Z
LAST-MODIFIED:20260326T165511Z
UID:2432-1775058300-1775061000@liftforlifegym.org
SUMMARY:Youth Easter Party
DESCRIPTION:Our youngest Members will have a chance to make their own Easter baskets and have an Easter Party that includes an egg hunt and games that test their comprehension\, teamwork\, and agility.
URL:https://liftforlifegym.org/event/youth-easter-party/
END:VEVENT
END:VCALENDAR